BEGIN:VCALENDAR
VERSION:2.0
PRODID:-//EVOQ ocial//NONSGML Events v1.0//EN
CALSCALE:GREGORIAN
METHOD:REQUEST
BEGIN:VEVENT
UID:https://www.copdfoundation.org/COPD360social/Community/Community-E
 vents/BronchandNTM360social-Coffee-Break-Wednesday-January-14-230PM-Ea
 stern.aspx
 
DTSTAMP:20260421T043527Z
CREATED:20251218T154602Z
DTSTART:20260114T193000Z
DTEND:20260114T203000Z
ORGANIZER;CN="Jamie Jarrard":MAILTO:jjarrard@copdfoundation.org
SUMMARY:BronchandNTM360social Coffee Break - Wednesday, January 14, 2:
 30PM Eastern
 
LOCATION:
URL:https://www.copdfoundation.org/COPD360social/Community/Community-E
 vents/BronchandNTM360social-Coffee-Break-Wednesday-January-14-230PM-Ea
 stern.aspx
 
DESCRIPTION:https://www.copdfoundation.org/COPD360social/Community/Com
 munity-Events/BronchandNTM360social-Coffee-Break-Wednesday-January-14-
 230PM-Eastern.aspx \n\nA group for those in the bronchiectasis and NTM
  lung disease communities. Register here:  https://copdf.co/Bronch-NTM
 -support
 
BEGIN:VALARM
TRIGGER:-PT15M
ACTION:DISPLAY
DESCRIPTION:Reminder
END:VALARM
END:VEVENT
END:VCALENDAR
