BEGIN:VCALENDAR
VERSION:2.0
PRODID:-//EVOQ ocial//NONSGML Events v1.0//EN
CALSCALE:GREGORIAN
METHOD:REQUEST
BEGIN:VEVENT
UID:https://www.copdfoundation.org/COPD360social/Community/Community-E
 vents/OxyTalk-Social-Hour-Wednesday-January-14-4PM-Eastern.aspx
 
DTSTAMP:20260420T172056Z
CREATED:20251218T154430Z
DTSTART:20260114T210000Z
DTEND:20260114T220000Z
ORGANIZER;CN="Jamie Jarrard":MAILTO:jjarrard@copdfoundation.org
SUMMARY:OxyTalk Social Hour - Wednesday, January 14, 4PM Eastern.
LOCATION:
URL:https://www.copdfoundation.org/COPD360social/Community/Community-E
 vents/OxyTalk-Social-Hour-Wednesday-January-14-4PM-Eastern.aspx
 
DESCRIPTION:https://www.copdfoundation.org/COPD360social/Community/Com
 munity-Events/OxyTalk-Social-Hour-Wednesday-January-14-4PM-Eastern.asp
 x \n\nA group for those on oxygen therapy. Send any questions ahead of
  time to oxygen360@copdfoundation.org. Register here:  https://copdf.c
 o/oxy-talk
 
BEGIN:VALARM
TRIGGER:-PT15M
ACTION:DISPLAY
DESCRIPTION:Reminder
END:VALARM
END:VEVENT
END:VCALENDAR
