BEGIN:VCALENDAR
VERSION:2.0
PRODID:-//EVOQ ocial//NONSGML Events v1.0//EN
CALSCALE:GREGORIAN
METHOD:REQUEST
BEGIN:VEVENT
UID:https://www.copdfoundation.org/COPD360social/Community/Community-E
 vents/COPD360Social-Hour-amp-Harmonica-Play-Along-Wednesday-Sept-3-4pm
 -Eastern.aspx
 
DTSTAMP:20260422T100856Z
CREATED:20250902T183324Z
DTSTART:20250903T200000Z
DTEND:20250903T210000Z
ORGANIZER;CN="Jamie Jarrard":MAILTO:jjarrard@copdfoundation.org
SUMMARY:COPD360Social Hour &amp; Harmonica Play-Along- Wednesday, Sept
 . 3, 4pm Eastern.
 
LOCATION:
URL:https://www.copdfoundation.org/COPD360social/Community/Community-E
 vents/COPD360Social-Hour-amp-Harmonica-Play-Along-Wednesday-Sept-3-4pm
 -Eastern.aspx
 
DESCRIPTION:https://www.copdfoundation.org/COPD360social/Community/Com
 munity-Events/COPD360Social-Hour-amp-Harmonica-Play-Along-Wednesday-Se
 pt-3-4pm-Eastern.aspx \n\nA group for everyone in our COPD community t
 o make friends, catch up, and answer your most pressing questions. Bri
 ng your harmonica for a Harmonicas for Health play-along to take place
  after the group discussion. Register here:  https://copdf.co/360-soci
 al
 
BEGIN:VALARM
TRIGGER:-PT15M
ACTION:DISPLAY
DESCRIPTION:Reminder
END:VALARM
END:VEVENT
END:VCALENDAR
