BEGIN:VCALENDAR
VERSION:2.0
PRODID:-//EVOQ ocial//NONSGML Events v1.0//EN
CALSCALE:GREGORIAN
METHOD:REQUEST
BEGIN:VEVENT
UID:https://www.copdfoundation.org/COPD360social/Community/Community-E
 vents/COPD360-Social-Hour-June-2025.aspx
 
DTSTAMP:20260421T095138Z
CREATED:20250602T193106Z
DTSTART:20250618T200000Z
DTEND:20250618T210000Z
ORGANIZER;CN="Jamie Jarrard":MAILTO:jjarrard@copdfoundation.org
SUMMARY:COPD360 Social Hour--June 2025
LOCATION:
URL:https://www.copdfoundation.org/COPD360social/Community/Community-E
 vents/COPD360-Social-Hour-June-2025.aspx
 
DESCRIPTION:https://www.copdfoundation.org/COPD360social/Community/Com
 munity-Events/COPD360-Social-Hour-June-2025.aspx \n\nJoin us for COPD3
 60Social Hour - Wednesday, June 18, 4pm Eastern.\n Please note: event 
 is scheduled in Eastern time.\n A group for everyone in our COPD commu
 nity to make friends, catch up, and answer your most pressing question
 s. Bring your harmonica for a Harmonicas for Health play-along to take
  place after the group discussion. Register here: https://copdf.co/360
 -social
 
BEGIN:VALARM
TRIGGER:-PT15M
ACTION:DISPLAY
DESCRIPTION:Reminder
END:VALARM
END:VEVENT
END:VCALENDAR
