BEGIN:VCALENDAR
VERSION:2.0
PRODID:-//EVOQ ocial//NONSGML Events v1.0//EN
CALSCALE:GREGORIAN
METHOD:REQUEST
BEGIN:VEVENT
UID:https://www.copdfoundation.org/COPD360social/Community/Community-E
 vents/COPD-Screening-amp-Education-Event-at-Shawnee-State-University.a
 spx
 
DTSTAMP:20260419T160256Z
CREATED:20250225T035140Z
DTSTART:20250407T140000Z
DTEND:20250407T180000Z
ORGANIZER;CN="Brittany Irish COPDF":MAILTO:birish@copdfoundation.org
SUMMARY:COPD Screening &amp; Education Event at Shawnee State Universi
 ty
 
LOCATION:940 2nd St, Portsmouth, Ohio, United States, 45662
URL:https://www.copdfoundation.org/COPD360social/Community/Community-E
 vents/COPD-Screening-amp-Education-Event-at-Shawnee-State-University.a
 spx
 
DESCRIPTION:https://www.copdfoundation.org/COPD360social/Community/Com
 munity-Events/COPD-Screening-amp-Education-Event-at-Shawnee-State-Univ
 ersity.aspx \n\nJoin the COPD Foundation for COPD screenings at Shawne
 e\nState University. Discover your risks for COPD and get tips on livi
 ng your best\nlife with a chronic lung condition. The health fair will
  take place in the\nlobby of the Vern Rife Center.\n	\n	\n	\n	\n	\n	 Q
 uestions? Contact Amy France, 740-351-3240, afrance@shawnee.edu
 
BEGIN:VALARM
TRIGGER:-PT15M
ACTION:DISPLAY
DESCRIPTION:Reminder
END:VALARM
END:VEVENT
END:VCALENDAR
