BEGIN:VCALENDAR
VERSION:2.0
PRODID:-//EVOQ ocial//NONSGML Events v1.0//EN
CALSCALE:GREGORIAN
METHOD:REQUEST
BEGIN:VEVENT
UID:https://www.copdfoundation.org/COPD360social/Community/Community-E
 vents/COPD-Learning-Hub-Educational-Opportunities-Webinar.aspx
 
DTSTAMP:20260424T220838Z
CREATED:20240819T132509Z
DTSTART:20240823T183000Z
DTEND:20240823T193000Z
ORGANIZER;CN="Tara Shedor, COPDF Communications":MAILTO:tshedor@copdfo
 undation.org
 
SUMMARY:COPD Learning Hub: Educational Opportunities Webinar
LOCATION:
URL:https://www.copdfoundation.org/COPD360social/Community/Community-E
 vents/COPD-Learning-Hub-Educational-Opportunities-Webinar.aspx
 
DESCRIPTION:https://www.copdfoundation.org/COPD360social/Community/Com
 munity-Events/COPD-Learning-Hub-Educational-Opportunities-Webinar.aspx
  \n\nJoin the educators at the COPD Foundation to learn about differen
 t educational resources and how to use them well. Ask questions about 
 what materials are available, or tell us what you'd like to see next!\
 n Event will take place on Zoom at 2:30 PM Eastern Time.\n Click the l
 ink here to register: https://copdf.co/ed-mats-web
 
BEGIN:VALARM
TRIGGER:-PT15M
ACTION:DISPLAY
DESCRIPTION:Reminder
END:VALARM
END:VEVENT
END:VCALENDAR
