BEGIN:VCALENDAR
VERSION:2.0
PRODID:-//EVOQ ocial//NONSGML Events v1.0//EN
CALSCALE:GREGORIAN
METHOD:REQUEST
BEGIN:VEVENT
UID:https://www.copdfoundation.org/COPD360social/Community/Community-E
 vents/COPD-360-Social-Hour-Thursday-April-18-5pm-ET.aspx
 
DTSTAMP:20260423T174745Z
CREATED:20240411T145905Z
DTSTART:20240418T210000Z
DTEND:20240418T220000Z
ORGANIZER;CN="Tara Shedor, COPDF Communications":MAILTO:tshedor@copdfo
 undation.org
 
SUMMARY:COPD 360 Social Hour - Thursday,  April 18 @ 5pm ET
LOCATION:
URL:https://www.copdfoundation.org/COPD360social/Community/Community-E
 vents/COPD-360-Social-Hour-Thursday-April-18-5pm-ET.aspx
 
DESCRIPTION:https://www.copdfoundation.org/COPD360social/Community/Com
 munity-Events/COPD-360-Social-Hour-Thursday-April-18-5pm-ET.aspx \n\nC
 lick the link to register here: https://copdf.co/360-social  Join our 
 group for everyone in our COPD community to make friends, catch up, an
 d answer your most pressing questions! You can join from your computer
 , tablet, phone, or any device with an internet connection. Bring your
  harmonica for a Harmonicas for Health play-along to take place after 
 the group discussion. Everyone is invited!
 
BEGIN:VALARM
TRIGGER:-PT15M
ACTION:DISPLAY
DESCRIPTION:Reminder
END:VALARM
END:VEVENT
END:VCALENDAR
