BEGIN:VCALENDAR
VERSION:2.0
PRODID:-//EVOQ ocial//NONSGML Events v1.0//EN
CALSCALE:GREGORIAN
METHOD:REQUEST
BEGIN:VEVENT
UID:https://www.copdfoundation.org/COPD360social/Community/Community-E
 vents/COPD-360-Social-Hour-this-Thursday-2.aspx
 
DTSTAMP:20260421T095158Z
CREATED:20240116T171637Z
DTSTART:20240118T220000Z
DTEND:20240118T230000Z
ORGANIZER;CN="Tara Shedor, COPDF Communications":MAILTO:tshedor@copdfo
 undation.org
 
SUMMARY:COPD 360 Social Hour - this Thursday!
LOCATION:
URL:https://www.copdfoundation.org/COPD360social/Community/Community-E
 vents/COPD-360-Social-Hour-this-Thursday-2.aspx
 
DESCRIPTION:https://www.copdfoundation.org/COPD360social/Community/Com
 munity-Events/COPD-360-Social-Hour-this-Thursday-2.aspx \n\nCome join 
 our virtual meet-up for everyone in the COPD community. Bring your har
 monica for a Harmonicas for Health play-along after the meeting! Event
  occurs on Zoom.\n Register here: https://copdf.co/360-social
 
BEGIN:VALARM
TRIGGER:-PT15M
ACTION:DISPLAY
DESCRIPTION:Reminder
END:VALARM
END:VEVENT
END:VCALENDAR
