BEGIN:VCALENDAR
VERSION:2.0
PRODID:-//EVOQ ocial//NONSGML Events v1.0//EN
CALSCALE:GREGORIAN
METHOD:REQUEST
BEGIN:VEVENT
UID:https://www.copdfoundation.org/COPD360social/Community/Community-E
 vents/COPD-360-Social-Hour-2.aspx
 
DTSTAMP:20260420T023750Z
CREATED:20230601T174529Z
DTSTART:20230615T210000Z
DTEND:20230615T220000Z
ORGANIZER;CN="Tara Shedor, COPDF Communications":MAILTO:tshedor@copdfo
 undation.org
 
SUMMARY:COPD 360 Social Hour
LOCATION:
URL:https://www.copdfoundation.org/COPD360social/Community/Community-E
 vents/COPD-360-Social-Hour-2.aspx
 
DESCRIPTION:https://www.copdfoundation.org/COPD360social/Community/Com
 munity-Events/COPD-360-Social-Hour-2.aspx \n\nJoin us for our virtual 
 COPD 360 Social Hour! Come and connect with other members of the COPD 
 community. We will have topics to discuss each month, but also just en
 joy spending some time together. Hope you will join us!\n Register her
 e: https://copdf.co/360-social
 
BEGIN:VALARM
TRIGGER:-PT15M
ACTION:DISPLAY
DESCRIPTION:Reminder
END:VALARM
END:VEVENT
END:VCALENDAR
